BEGIN:VCALENDAR
VERSION:2.0
PRODID:-//Greenhill Humane Society - ECPv6.15.20//NONSGML v1.0//EN
CALSCALE:GREGORIAN
METHOD:PUBLISH
X-WR-CALNAME:Greenhill Humane Society
X-ORIGINAL-URL:https://www.green-hill.org
X-WR-CALDESC:Events for Greenhill Humane Society
REFRESH-INTERVAL;VALUE=DURATION:PT1H
X-Robots-Tag:noindex
X-PUBLISHED-TTL:PT1H
BEGIN:VTIMEZONE
TZID:America/Los_Angeles
BEGIN:DAYLIGHT
TZOFFSETFROM:-0800
TZOFFSETTO:-0700
TZNAME:PDT
DTSTART:20240310T100000
END:DAYLIGHT
BEGIN:STANDARD
TZOFFSETFROM:-0700
TZOFFSETTO:-0800
TZNAME:PST
DTSTART:20241103T090000
END:STANDARD
BEGIN:DAYLIGHT
TZOFFSETFROM:-0800
TZOFFSETTO:-0700
TZNAME:PDT
DTSTART:20250309T100000
END:DAYLIGHT
BEGIN:STANDARD
TZOFFSETFROM:-0700
TZOFFSETTO:-0800
TZNAME:PST
DTSTART:20251102T090000
END:STANDARD
BEGIN:DAYLIGHT
TZOFFSETFROM:-0800
TZOFFSETTO:-0700
TZNAME:PDT
DTSTART:20260308T100000
END:DAYLIGHT
BEGIN:STANDARD
TZOFFSETFROM:-0700
TZOFFSETTO:-0800
TZNAME:PST
DTSTART:20261101T090000
END:STANDARD
END:VTIMEZONE
BEGIN:VEVENT
DTSTART;TZID=America/Los_Angeles:20250926T170000
DTEND;TZID=America/Los_Angeles:20250926T200000
DTSTAMP:20260425T150048
CREATED:20250822T181704Z
LAST-MODIFIED:20250915T181001Z
UID:18232-1758906000-1758916800@www.green-hill.org
SUMMARY:Smooches from Pooches
DESCRIPTION:Join us on 9/26/25 from 5pm-8pm Smooches from Pooches with Whiteaker Tattoo at the Whiteaker Last Friday ArtWalk. Come out to Whiteaker Tattoo and see some sweet adoptable Greenhill dogs where guests can make a donation and have some smooches from our adoptable dogs\, or make a donation\, and just enjoy some time with our adoptable dogs. 100% of donations raised benefit Greenhill. There will be a food vendor on grounds so when you’re hungry after snuggling some sweet adoptable dogs\, grab something to eat and enjoy all for a good cause!
URL:https://www.green-hill.org/event/smooches-for-pooches/
LOCATION:Whiteaker Tattoo\, 995 W 7th Ave\, Eugene\, OR\, 97402\, United States
ATTACH;FMTTYPE=image/png:https://www.green-hill.org/wp-content/uploads/2025/08/wtcwordlogo2.png
END:VEVENT
END:VCALENDAR