BEGIN:VCALENDAR
VERSION:2.0
PRODID:-//Greenhill Humane Society - ECPv6.15.20//NONSGML v1.0//EN
CALSCALE:GREGORIAN
METHOD:PUBLISH
X-WR-CALNAME:Greenhill Humane Society
X-ORIGINAL-URL:https://www.green-hill.org
X-WR-CALDESC:Events for Greenhill Humane Society
REFRESH-INTERVAL;VALUE=DURATION:PT1H
X-Robots-Tag:noindex
X-PUBLISHED-TTL:PT1H
BEGIN:VTIMEZONE
TZID:America/Los_Angeles
BEGIN:DAYLIGHT
TZOFFSETFROM:-0800
TZOFFSETTO:-0700
TZNAME:PDT
DTSTART:20240310T100000
END:DAYLIGHT
BEGIN:STANDARD
TZOFFSETFROM:-0700
TZOFFSETTO:-0800
TZNAME:PST
DTSTART:20241103T090000
END:STANDARD
BEGIN:DAYLIGHT
TZOFFSETFROM:-0800
TZOFFSETTO:-0700
TZNAME:PDT
DTSTART:20250309T100000
END:DAYLIGHT
BEGIN:STANDARD
TZOFFSETFROM:-0700
TZOFFSETTO:-0800
TZNAME:PST
DTSTART:20251102T090000
END:STANDARD
BEGIN:DAYLIGHT
TZOFFSETFROM:-0800
TZOFFSETTO:-0700
TZNAME:PDT
DTSTART:20260308T100000
END:DAYLIGHT
BEGIN:STANDARD
TZOFFSETFROM:-0700
TZOFFSETTO:-0800
TZNAME:PST
DTSTART:20261101T090000
END:STANDARD
END:VTIMEZONE
BEGIN:VEVENT
DTSTART;TZID=America/Los_Angeles:20250930T110000
DTEND;TZID=America/Los_Angeles:20250930T130000
DTSTAMP:20260425T032229
CREATED:20250915T181426Z
LAST-MODIFIED:20250915T181426Z
UID:18298-1759230000-1759237200@www.green-hill.org
SUMMARY:Adoptable animals at Starbucks
DESCRIPTION:Join us on 9/30/25 from 11am-1pm at Starbucks on Delta Highway. We will have adoptable animals and a Greenhill booth to talk to the community about our programs and services. Come by\, grab a latte\, and visit some animals!
URL:https://www.green-hill.org/event/adoptable-animals-at-starbucks/
LOCATION:Starbucks – Delta Hwy\, 3003 N Delta Hwy\, Eugene\, OR\, 97408\, United States
END:VEVENT
END:VCALENDAR