BEGIN:VCALENDAR
VERSION:2.0
PRODID:-//Greenhill Humane Society - ECPv6.15.20//NONSGML v1.0//EN
CALSCALE:GREGORIAN
METHOD:PUBLISH
X-ORIGINAL-URL:https://www.green-hill.org
X-WR-CALDESC:Events for Greenhill Humane Society
REFRESH-INTERVAL;VALUE=DURATION:PT1H
X-Robots-Tag:noindex
X-PUBLISHED-TTL:PT1H
BEGIN:VTIMEZONE
TZID:America/Los_Angeles
BEGIN:DAYLIGHT
TZOFFSETFROM:-0800
TZOFFSETTO:-0700
TZNAME:PDT
DTSTART:20240310T100000
END:DAYLIGHT
BEGIN:STANDARD
TZOFFSETFROM:-0700
TZOFFSETTO:-0800
TZNAME:PST
DTSTART:20241103T090000
END:STANDARD
BEGIN:DAYLIGHT
TZOFFSETFROM:-0800
TZOFFSETTO:-0700
TZNAME:PDT
DTSTART:20250309T100000
END:DAYLIGHT
BEGIN:STANDARD
TZOFFSETFROM:-0700
TZOFFSETTO:-0800
TZNAME:PST
DTSTART:20251102T090000
END:STANDARD
BEGIN:DAYLIGHT
TZOFFSETFROM:-0800
TZOFFSETTO:-0700
TZNAME:PDT
DTSTART:20260308T100000
END:DAYLIGHT
BEGIN:STANDARD
TZOFFSETFROM:-0700
TZOFFSETTO:-0800
TZNAME:PST
DTSTART:20261101T090000
END:STANDARD
END:VTIMEZONE
BEGIN:VEVENT
DTSTART;TZID=America/Los_Angeles:20251128T110000
DTEND;TZID=America/Los_Angeles:20251128T130000
DTSTAMP:20260421T051551
CREATED:20251118T223505Z
LAST-MODIFIED:20251119T180110Z
UID:18483-1764327600-1764334800@www.green-hill.org
SUMMARY:Black Friday with Greenhill at Kiefer Mazda
DESCRIPTION:Stop by Kiefer Mazda on 383 Goodpasture Island Rd on Black Friday 11/28 from 11am-1pm. \nGreenhill will be there with some of our dogs to spread the word about our programs! Come by and say hello!
URL:https://www.green-hill.org/event/black-friday-with-greenhill-at-kiefer-automotive/
LOCATION:Kiefer Mazda\, 383 Goodpasture Island Rd\, Eugene\, 97402\, United States
ATTACH;FMTTYPE=image/png:https://www.green-hill.org/wp-content/uploads/2025/11/tmp_14787_2-10-2025_114942_-scaled.png
END:VEVENT
END:VCALENDAR