BEGIN:VCALENDAR
VERSION:2.0
PRODID:-//Greenhill Humane Society - ECPv6.15.20//NONSGML v1.0//EN
CALSCALE:GREGORIAN
METHOD:PUBLISH
X-ORIGINAL-URL:https://www.green-hill.org
X-WR-CALDESC:Events for Greenhill Humane Society
REFRESH-INTERVAL;VALUE=DURATION:PT1H
X-Robots-Tag:noindex
X-PUBLISHED-TTL:PT1H
BEGIN:VTIMEZONE
TZID:America/Los_Angeles
BEGIN:DAYLIGHT
TZOFFSETFROM:-0800
TZOFFSETTO:-0700
TZNAME:PDT
DTSTART:20240310T100000
END:DAYLIGHT
BEGIN:STANDARD
TZOFFSETFROM:-0700
TZOFFSETTO:-0800
TZNAME:PST
DTSTART:20241103T090000
END:STANDARD
BEGIN:DAYLIGHT
TZOFFSETFROM:-0800
TZOFFSETTO:-0700
TZNAME:PDT
DTSTART:20250309T100000
END:DAYLIGHT
BEGIN:STANDARD
TZOFFSETFROM:-0700
TZOFFSETTO:-0800
TZNAME:PST
DTSTART:20251102T090000
END:STANDARD
BEGIN:DAYLIGHT
TZOFFSETFROM:-0800
TZOFFSETTO:-0700
TZNAME:PDT
DTSTART:20260308T100000
END:DAYLIGHT
BEGIN:STANDARD
TZOFFSETFROM:-0700
TZOFFSETTO:-0800
TZNAME:PST
DTSTART:20261101T090000
END:STANDARD
END:VTIMEZONE
BEGIN:VEVENT
DTSTART;TZID=America/Los_Angeles:20251207T130000
DTEND;TZID=America/Los_Angeles:20251207T160000
DTSTAMP:20260421T024714
CREATED:20251113T143028Z
LAST-MODIFIED:20251113T143028Z
UID:18467-1765112400-1765123200@www.green-hill.org
SUMMARY:Santa Paws at 5th Street Public Market
DESCRIPTION:Join Us on 12/7 from 1pm-4pm for Santa Paws at 5th Street Public Market! Greenhill and Santa too  gather to enjoy this festive time of year with photos with your pup (or animal of your choice!). Greenhill staff and volunteers will be there to take your photos and if you’d like to help support Greenhill animals this holiday season\, you are welcome to bring a donation of food or supplies and drop off there. We look forward to seeing you there!
URL:https://www.green-hill.org/event/santa-paws-at-5th-street-public-market/
LOCATION:5th Street Public Market\, 5th St\, Eugene
ATTACH;FMTTYPE=image/png:https://www.green-hill.org/wp-content/uploads/2025/11/Santa-Paws-poster-2022.png
END:VEVENT
END:VCALENDAR