BEGIN:VCALENDAR
VERSION:2.0
PRODID:-//Greenhill Humane Society - ECPv6.15.20//NONSGML v1.0//EN
CALSCALE:GREGORIAN
METHOD:PUBLISH
X-WR-CALNAME:Greenhill Humane Society
X-ORIGINAL-URL:https://www.green-hill.org
X-WR-CALDESC:Events for Greenhill Humane Society
REFRESH-INTERVAL;VALUE=DURATION:PT1H
X-Robots-Tag:noindex
X-PUBLISHED-TTL:PT1H
BEGIN:VTIMEZONE
TZID:America/Los_Angeles
BEGIN:DAYLIGHT
TZOFFSETFROM:-0800
TZOFFSETTO:-0700
TZNAME:PDT
DTSTART:20180311T100000
END:DAYLIGHT
BEGIN:STANDARD
TZOFFSETFROM:-0700
TZOFFSETTO:-0800
TZNAME:PST
DTSTART:20181104T090000
END:STANDARD
BEGIN:DAYLIGHT
TZOFFSETFROM:-0800
TZOFFSETTO:-0700
TZNAME:PDT
DTSTART:20190310T100000
END:DAYLIGHT
BEGIN:STANDARD
TZOFFSETFROM:-0700
TZOFFSETTO:-0800
TZNAME:PST
DTSTART:20191103T090000
END:STANDARD
BEGIN:DAYLIGHT
TZOFFSETFROM:-0800
TZOFFSETTO:-0700
TZNAME:PDT
DTSTART:20200308T100000
END:DAYLIGHT
BEGIN:STANDARD
TZOFFSETFROM:-0700
TZOFFSETTO:-0800
TZNAME:PST
DTSTART:20201101T090000
END:STANDARD
BEGIN:DAYLIGHT
TZOFFSETFROM:-0800
TZOFFSETTO:-0700
TZNAME:PDT
DTSTART:20210314T100000
END:DAYLIGHT
BEGIN:STANDARD
TZOFFSETFROM:-0700
TZOFFSETTO:-0800
TZNAME:PST
DTSTART:20211107T090000
END:STANDARD
END:VTIMEZONE
BEGIN:VEVENT
DTSTART;VALUE=DATE:20200424
DTEND;VALUE=DATE:20200802
DTSTAMP:20260420T035120
CREATED:20200220T224934Z
LAST-MODIFIED:20200430T170642Z
UID:10370-1587686400-1596326399@www.green-hill.org
SUMMARY:Virtual Bark in the Park 2020
DESCRIPTION:Bark in the Park is going VIRTUAL!\nOn Your Barks\, Get Set\, Go!  Join hundreds of animal lovers as we take Greenhill’s annual Bark in the Park Virtual! Join others who are committed to helping animals and the people who love them. Every dollar you raise makes a lifesaving difference for over 3\,600 animals in need each year. Your participation makes it possible for us to provide safe shelter\, medical care\, rescue and rehabilitation\, protection from cruelty and neglect\, and so much more. \nAdult Registraion is $35 and includes a doggie bandana and a tech-tee shirt. \nRegistration for Children age 12 and under is free. A child sized tech-tee can be purchased for $15. \nPrizes for Bark in the Park Fundraisers and Participants  \n\nInstead of gathering physically\, we are asking people to show their support for the animals by walking around their block (with social distancing in mind)\, around their living room\, or on one of Lane County’s many beautiful hiking trails. You can do it at any time\, or multiple times (your dogs will love it!) Take a photo or video and then tag us on social media using the hashtag #ghsbark. You can also email your photos and videos to us at bark@green-hill.org. \n\nTo learn more about Bark in the Park and register\, visit www.green-hill.org/bark 
URL:https://www.green-hill.org/event/bark-in-the-park-2020/
LOCATION:Virtual
ATTACH;FMTTYPE=image/png:https://www.green-hill.org/wp-content/uploads/2020/02/Bark-logo_nodate.png
END:VEVENT
BEGIN:VEVENT
DTSTART;TZID=America/Los_Angeles:20200312T180000
DTEND;TZID=America/Los_Angeles:20200312T200000
DTSTAMP:20260420T035120
CREATED:20200306T174716Z
LAST-MODIFIED:20200309T175343Z
UID:10651-1584036000-1584043200@www.green-hill.org
SUMMARY:St. Patrick's Doggie Social at Steelhead
DESCRIPTION:St. Patrick’s Doggie Social at Steelhead Brewery\, March 12\, 6-8 p.m. \nCelebrate the night with your lucky dog and enjoy delicious brew and food. Plus\, $1 for every drink purchased will go to Greenhill. Dogs are welcome! \n 
URL:https://www.green-hill.org/event/st-patricks-day-fundraiser-at-steelhead/
LOCATION:Steelhead Brewery
ATTACH;FMTTYPE=image/jpeg:https://www.green-hill.org/wp-content/uploads/2020/03/Poster.jpg
END:VEVENT
BEGIN:VEVENT
DTSTART;TZID=America/Los_Angeles:20200213T180000
DTEND;TZID=America/Los_Angeles:20200213T200000
DTSTAMP:20260420T035120
CREATED:20200117T203631Z
LAST-MODIFIED:20200124T174034Z
UID:9226-1581616800-1581624000@www.green-hill.org
SUMMARY:Pints for Paws
DESCRIPTION:  \nJoin Greenhill Humane Society for a date with your dog on Thursday\, February 13 from 6-8 pm at Steelhead Brewery. During this furry pre-Valentine’s Day event\, $1 for every drink purchased will go towards helping the animals of Greenhill Humane Society! Dogs are welcome!
URL:https://www.green-hill.org/event/pints-for-paws/
LOCATION:Steelhead Brewery
ATTACH;FMTTYPE=image/png:https://www.green-hill.org/wp-content/uploads/2020/01/PintsforPawsPoster.png
END:VEVENT
BEGIN:VEVENT
DTSTART;TZID=America/Los_Angeles:20200201T120000
DTEND;TZID=America/Los_Angeles:20200201T140000
DTSTAMP:20260420T035120
CREATED:20200106T201332Z
LAST-MODIFIED:20200106T224257Z
UID:8849-1580558400-1580565600@www.green-hill.org
SUMMARY:Foster Open House
DESCRIPTION:Ever consider fostering an animal? Want to learn more about the rewarding experience of opening your home and heart to an animal in need? Join us on Saturday\, February 1 for a Foster Open House to learn more about fostering the animals of Greenhill. Guests will learn what to expect as a first-time foster\, the rewards of fostering\, and how fostering saves animals’ lives. Greenhill staff will be onsite to answer questions and current foster parents will be available to discuss what it’s like to be a foster parent. \nFoster Open House \nFebruary 1\, 2020 \n12-2 p.m. at Greenhill Humane Society. \nFor questions or comments\, please email our Foster Department at foster@green-hill.org. \n 
URL:https://www.green-hill.org/event/foster-open-house/
LOCATION:Greenhill Humane Society\, 88530 GREEN HILL RD\, EUGENE\, OR\, 97402-9111\, United States
ATTACH;FMTTYPE=image/jpeg:https://www.green-hill.org/wp-content/uploads/2019/12/5.jpg
END:VEVENT
BEGIN:VEVENT
DTSTART;VALUE=DATE:20191211
DTEND;VALUE=DATE:20200101
DTSTAMP:20260420T035120
CREATED:20191211T200556Z
LAST-MODIFIED:20191211T200556Z
UID:8081-1576022400-1577836799@www.green-hill.org
SUMMARY:Greenhill’s Giving Trees
DESCRIPTION:Greenhill’s Giving Tree is the perfect opportunity for you to give back to the animals this holiday season! Here’s how the Giving Tree work: \n\nFind a local business that is home to one of Greenhill’s Holiday Giving Trees\nPick out ornaments of animals which has their wish list\nReturn to the tree to donate the desired item in the gift bin or take it to Greenhill\n\nIf you would like to make a financial contribution\, please visit here. \nYou can find a Greenhill Giving Tree throughout the month of December at: \n\n5th Street Public Market\nFriendly St. Market\nMark Hammatt State Farm Insurance\nCourtyard by Marriott Eugene Springfield \nMountain Rose Herbs\nStarbucks on W. 11\nT. Matthew Jacks\, DDS\nVCA Delta Oaks Animal Hospital\nVCA McKenzie Animal Hospital\nVCA Westmoreland Animal hospital\nWayfair in Springfield\n\nTo find a full list of what our animals are in need of this year\, visit https://www.green-hill.org/wish_list/. \n 
URL:https://www.green-hill.org/event/greenhills-giving-trees/
ATTACH;FMTTYPE=application/pdf:https://www.green-hill.org/wp-content/uploads/2019/12/poster-for-giving-tree-.pdf
ORGANIZER;CN="Greenhill Humane Society":MAILTO:community@green-hill.org
END:VEVENT
END:VCALENDAR