BEGIN:VCALENDAR
VERSION:2.0
PRODID:-//Greenhill Humane Society - ECPv6.15.20//NONSGML v1.0//EN
CALSCALE:GREGORIAN
METHOD:PUBLISH
X-WR-CALNAME:Greenhill Humane Society
X-ORIGINAL-URL:https://www.green-hill.org
X-WR-CALDESC:Events for Greenhill Humane Society
REFRESH-INTERVAL;VALUE=DURATION:PT1H
X-Robots-Tag:noindex
X-PUBLISHED-TTL:PT1H
BEGIN:VTIMEZONE
TZID:America/Los_Angeles
BEGIN:DAYLIGHT
TZOFFSETFROM:-0800
TZOFFSETTO:-0700
TZNAME:PDT
DTSTART:20240310T100000
END:DAYLIGHT
BEGIN:STANDARD
TZOFFSETFROM:-0700
TZOFFSETTO:-0800
TZNAME:PST
DTSTART:20241103T090000
END:STANDARD
BEGIN:DAYLIGHT
TZOFFSETFROM:-0800
TZOFFSETTO:-0700
TZNAME:PDT
DTSTART:20250309T100000
END:DAYLIGHT
BEGIN:STANDARD
TZOFFSETFROM:-0700
TZOFFSETTO:-0800
TZNAME:PST
DTSTART:20251102T090000
END:STANDARD
BEGIN:DAYLIGHT
TZOFFSETFROM:-0800
TZOFFSETTO:-0700
TZNAME:PDT
DTSTART:20260308T100000
END:DAYLIGHT
BEGIN:STANDARD
TZOFFSETFROM:-0700
TZOFFSETTO:-0800
TZNAME:PST
DTSTART:20261101T090000
END:STANDARD
END:VTIMEZONE
BEGIN:VEVENT
DTSTART;TZID=America/Los_Angeles:20251117T160000
DTEND;TZID=America/Los_Angeles:20251117T190000
DTSTAMP:20260421T034603
CREATED:20251113T135358Z
LAST-MODIFIED:20251113T135509Z
UID:18459-1763395200-1763406000@www.green-hill.org
SUMMARY:Pet Nights with Santa at Valley River Center
DESCRIPTION:  \nJoin Us on 11/17\, 11/24\, 12/1\, & 12/8 from 4pm-7pm for Pet Nights with Santa at Valley River Center. Greenhill will have an Outreach table and will be collecting donations from our wish list at these nights\, as well as welcoming families and friends as they come in to have their photos taken with their furry friend this holiday season! Enjoy this festive time of year with a fun photo and help Greenhill animals this holiday season. \nVisit the event information page here for more information and to book a photo reservation!
URL:https://www.green-hill.org/event/pet-nights-with-santa-at-valley-river-center/
LOCATION:Valley River Center Mall
ATTACH;FMTTYPE=image/png:https://www.green-hill.org/wp-content/uploads/2025/11/event-page-4.png
END:VEVENT
BEGIN:VEVENT
DTSTART;TZID=America/Los_Angeles:20251122T140000
DTEND;TZID=America/Los_Angeles:20251122T170000
DTSTAMP:20260421T034603
CREATED:20251113T141603Z
LAST-MODIFIED:20251113T141651Z
UID:18465-1763820000-1763830800@www.green-hill.org
SUMMARY:Adoption Event at Springfield Petco
DESCRIPTION:Join Us for an Adoption Event at Springfield Petco in Springfield on 11/22 from 2pm-5pm! \nPlease come stop by and see who we might have for adoption at the Springfield Petco and learn more about Greenhill Humane Society\, and how you can get involved!
URL:https://www.green-hill.org/event/adoption-event-at-springfield-petco/
LOCATION:Springfield Petco\, Gateway Mall
ATTACH;FMTTYPE=image/jpeg:https://www.green-hill.org/wp-content/uploads/2024/07/Clifton_Greenhill-Humane-Society.jpg
END:VEVENT
BEGIN:VEVENT
DTSTART;TZID=America/Los_Angeles:20251124T160000
DTEND;TZID=America/Los_Angeles:20251124T190000
DTSTAMP:20260421T034603
CREATED:20251113T135734Z
LAST-MODIFIED:20251113T140514Z
UID:18462-1764000000-1764010800@www.green-hill.org
SUMMARY:Pet Nights with Santa at Valley River Center
DESCRIPTION:Join Us on 11/17\, 11/24\, 12/1\, & 12/8 from 4pm-7pm for Pet Nights with Santa at Valley River Center. Greenhill will have an Outreach table and will be collecting donations from our wish list at these nights\, as well as welcoming families and friends as they come in to have their photos taken with their furry friend this holiday season! Enjoy this festive time of year with a fun photo and help Greenhill animals this holiday season. \nVisit the event information page here for more information and to book a photo reservation!
URL:https://www.green-hill.org/event/pet-nights-with-santa-at-valley-river/
LOCATION:Valley River Center Mall
ATTACH;FMTTYPE=image/png:https://www.green-hill.org/wp-content/uploads/2025/11/event-page-4.png
END:VEVENT
BEGIN:VEVENT
DTSTART;TZID=America/Los_Angeles:20251128T110000
DTEND;TZID=America/Los_Angeles:20251128T130000
DTSTAMP:20260421T034603
CREATED:20251118T223505Z
LAST-MODIFIED:20251119T180110Z
UID:18483-1764327600-1764334800@www.green-hill.org
SUMMARY:Black Friday with Greenhill at Kiefer Mazda
DESCRIPTION:Stop by Kiefer Mazda on 383 Goodpasture Island Rd on Black Friday 11/28 from 11am-1pm. \nGreenhill will be there with some of our dogs to spread the word about our programs! Come by and say hello!
URL:https://www.green-hill.org/event/black-friday-with-greenhill-at-kiefer-automotive/
LOCATION:Kiefer Mazda\, 383 Goodpasture Island Rd\, Eugene\, 97402\, United States
ATTACH;FMTTYPE=image/png:https://www.green-hill.org/wp-content/uploads/2025/11/tmp_14787_2-10-2025_114942_-scaled.png
END:VEVENT
END:VCALENDAR